BEGIN:VCALENDAR
VERSION:2.0
PRODID:-//Ordine degli Ingegneri della Provincia di Alessandria - ECPv6.15.11//NONSGML v1.0//EN
CALSCALE:GREGORIAN
METHOD:PUBLISH
X-WR-CALNAME:Ordine degli Ingegneri della Provincia di Alessandria
X-ORIGINAL-URL:https://ordingal.it
X-WR-CALDESC:Eventi per Ordine degli Ingegneri della Provincia di Alessandria
REFRESH-INTERVAL;VALUE=DURATION:PT1H
X-Robots-Tag:noindex
X-PUBLISHED-TTL:PT1H
BEGIN:VTIMEZONE
TZID:Europe/Rome
BEGIN:DAYLIGHT
TZOFFSETFROM:+0100
TZOFFSETTO:+0200
TZNAME:CEST
DTSTART:20240331T010000
END:DAYLIGHT
BEGIN:STANDARD
TZOFFSETFROM:+0200
TZOFFSETTO:+0100
TZNAME:CET
DTSTART:20241027T010000
END:STANDARD
BEGIN:DAYLIGHT
TZOFFSETFROM:+0100
TZOFFSETTO:+0200
TZNAME:CEST
DTSTART:20250330T010000
END:DAYLIGHT
BEGIN:STANDARD
TZOFFSETFROM:+0200
TZOFFSETTO:+0100
TZNAME:CET
DTSTART:20251026T010000
END:STANDARD
BEGIN:DAYLIGHT
TZOFFSETFROM:+0100
TZOFFSETTO:+0200
TZNAME:CEST
DTSTART:20260329T010000
END:DAYLIGHT
BEGIN:STANDARD
TZOFFSETFROM:+0200
TZOFFSETTO:+0100
TZNAME:CET
DTSTART:20261025T010000
END:STANDARD
END:VTIMEZONE
BEGIN:VEVENT
DTSTART;TZID=Europe/Rome:20250903T180000
DTEND;TZID=Europe/Rome:20250903T200000
DTSTAMP:20260423T143536
CREATED:20250530T075045Z
LAST-MODIFIED:20250604T122255Z
UID:23217-1756922400-1756929600@ordingal.it
SUMMARY:Consiglio Ordine Ingegneri
DESCRIPTION:
URL:https://ordingal.it/event/consiglio-ordine-ingegneri-7/
LOCATION:Corso Teresio Borsalino 17 – Alessandria\, Corso Teresio Borsalino 17\, Alessandria\, AL\, 15121\, Italia
CATEGORIES:Consigli
END:VEVENT
BEGIN:VEVENT
DTSTART;TZID=Europe/Rome:20250916T173000
DTEND;TZID=Europe/Rome:20250916T190000
DTSTAMP:20260423T143536
CREATED:20250910T092221Z
LAST-MODIFIED:20250910T092221Z
UID:23405-1758043800-1758049200@ordingal.it
SUMMARY:Commissione Energia e Commissione Acustica ed Impianti
DESCRIPTION:Ai Componenti la Commissione Energia \nAi Componenti la Commissione Acustica ed Impianti \nLoro sedi \n  \nA tutti gli Iscritti \nLoro sedi \n  \nLa Commissione Energia e la Commissione Acustica ed Impianti sono convocate per martedì 16 settembre 2025 ore 17.30 in videoconferenza con il seguente o.d.g.: \n\nCollegamento online Giacomini;\nBozza Conto Termico 3.0;\nPianificazione corsi.
URL:https://ordingal.it/event/commissione-energia-e-commissione-acustica-ed-impianti-2/
LOCATION:FAD
CATEGORIES:Commissioni
END:VEVENT
BEGIN:VEVENT
DTSTART;TZID=Europe/Rome:20250917T180000
DTEND;TZID=Europe/Rome:20250917T200000
DTSTAMP:20260423T143536
CREATED:20250530T075124Z
LAST-MODIFIED:20250604T122240Z
UID:23219-1758132000-1758139200@ordingal.it
SUMMARY:Consiglio Ordine Ingegneri
DESCRIPTION:
URL:https://ordingal.it/event/consiglio-ordine-ingegneri-8/
LOCATION:Corso Teresio Borsalino 17 – Alessandria\, Corso Teresio Borsalino 17\, Alessandria\, AL\, 15121\, Italia
CATEGORIES:Consigli
END:VEVENT
BEGIN:VEVENT
DTSTART;TZID=Europe/Rome:20250919T080000
DTEND;TZID=Europe/Rome:20250920T170000
DTSTAMP:20260423T143536
CREATED:20250411T091739Z
LAST-MODIFIED:20250411T091739Z
UID:23077-1758268800-1758387600@ordingal.it
SUMMARY:Assemblea dei Presidenti - CNI
DESCRIPTION:Gorizia
URL:https://ordingal.it/event/assemblea-dei-presidenti-cni-3/
LOCATION:AL
CATEGORIES:Assemblea dei Presidenti
END:VEVENT
BEGIN:VEVENT
DTSTART;TZID=Europe/Rome:20250926T143000
DTEND;TZID=Europe/Rome:20250926T173000
DTSTAMP:20260423T143536
CREATED:20250829T103757Z
LAST-MODIFIED:20250829T103757Z
UID:23367-1758897000-1758907800@ordingal.it
SUMMARY:Seminario di aggiornamento sul tema dell'applicazione dell'intelligenza artificiale: Dal pensiero automatico agli agenti intelligenti
DESCRIPTION:
URL:https://ordingal.it/event/seminario-di-aggiornamento-sul-tema-dellapplicazione-dellintelligenza-artificiale-dal-pensiero-automatico-agli-agenti-intelligenti/
LOCATION:Corso Teresio Borsalino 17 – Alessandria\, Corso Teresio Borsalino 17\, Alessandria\, AL\, 15121\, Italia
CATEGORIES:Corsi di formazione
END:VEVENT
BEGIN:VEVENT
DTSTART;TZID=Europe/Rome:20250930T140000
DTEND;TZID=Europe/Rome:20250930T190000
DTSTAMP:20260423T143536
CREATED:20250506T065342Z
LAST-MODIFIED:20250704T091631Z
UID:23144-1759240800-1759258800@ordingal.it
SUMMARY:Seminario - La building automation i bacs nella norma tecnica e giuridica -
DESCRIPTION:
URL:https://ordingal.it/event/seminario-la-building-automation-i-bacs-nella-norma-tecnica-e-giuridica/
LOCATION:Corso Teresio Borsalino 17 – Alessandria\, Corso Teresio Borsalino 17\, Alessandria\, AL\, 15121\, Italia
CATEGORIES:Corsi di formazione
END:VEVENT
END:VCALENDAR