BEGIN:VCALENDAR
VERSION:2.0
PRODID:-//Ordine degli Ingegneri della Provincia di Alessandria - ECPv6.15.11//NONSGML v1.0//EN
CALSCALE:GREGORIAN
METHOD:PUBLISH
X-WR-CALNAME:Ordine degli Ingegneri della Provincia di Alessandria
X-ORIGINAL-URL:https://ordingal.it
X-WR-CALDESC:Eventi per Ordine degli Ingegneri della Provincia di Alessandria
REFRESH-INTERVAL;VALUE=DURATION:PT1H
X-Robots-Tag:noindex
X-PUBLISHED-TTL:PT1H
BEGIN:VTIMEZONE
TZID:Europe/Rome
BEGIN:DAYLIGHT
TZOFFSETFROM:+0100
TZOFFSETTO:+0200
TZNAME:CEST
DTSTART:20240331T010000
END:DAYLIGHT
BEGIN:STANDARD
TZOFFSETFROM:+0200
TZOFFSETTO:+0100
TZNAME:CET
DTSTART:20241027T010000
END:STANDARD
BEGIN:DAYLIGHT
TZOFFSETFROM:+0100
TZOFFSETTO:+0200
TZNAME:CEST
DTSTART:20250330T010000
END:DAYLIGHT
BEGIN:STANDARD
TZOFFSETFROM:+0200
TZOFFSETTO:+0100
TZNAME:CET
DTSTART:20251026T010000
END:STANDARD
BEGIN:DAYLIGHT
TZOFFSETFROM:+0100
TZOFFSETTO:+0200
TZNAME:CEST
DTSTART:20260329T010000
END:DAYLIGHT
BEGIN:STANDARD
TZOFFSETFROM:+0200
TZOFFSETTO:+0100
TZNAME:CET
DTSTART:20261025T010000
END:STANDARD
END:VTIMEZONE
BEGIN:VEVENT
DTSTART;TZID=Europe/Rome:20250709T180000
DTEND;TZID=Europe/Rome:20250709T210000
DTSTAMP:20260423T114944
CREATED:20250530T074803Z
LAST-MODIFIED:20250604T122321Z
UID:23213-1752084000-1752094800@ordingal.it
SUMMARY:Consiglio Ordine Ingegneri
DESCRIPTION:
URL:https://ordingal.it/event/consiglio-ordine-ingegneri-5/
LOCATION:Corso Teresio Borsalino 17 – Alessandria\, Corso Teresio Borsalino 17\, Alessandria\, AL\, 15121\, Italia
CATEGORIES:Consigli
END:VEVENT
BEGIN:VEVENT
DTSTART;TZID=Europe/Rome:20250711T080000
DTEND;TZID=Europe/Rome:20250712T170000
DTSTAMP:20260423T114944
CREATED:20250411T091655Z
LAST-MODIFIED:20250411T091655Z
UID:23075-1752220800-1752339600@ordingal.it
SUMMARY:Assemblea dei Presidenti - CNI
DESCRIPTION:
URL:https://ordingal.it/event/assemblea-dei-presidenti-cni-2/
LOCATION:AL
CATEGORIES:Assemblea dei Presidenti
END:VEVENT
BEGIN:VEVENT
DTSTART;TZID=Europe/Rome:20250715T090000
DTEND;TZID=Europe/Rome:20250715T133000
DTSTAMP:20260423T114944
CREATED:20250704T104540Z
LAST-MODIFIED:20250704T104540Z
UID:23301-1752570000-1752586200@ordingal.it
SUMMARY:Seminario di aggiornamento “Il processo di gestione delle infrastrutture stradali”
DESCRIPTION:
URL:https://ordingal.it/event/seminario-di-aggiornamento-il-processo-di-gestione-delle-infrastrutture-stradali/
LOCATION:ITINERA\, ITINERA Strada Statale 10 per Alessandria n. 6/A\, Tortona (AL)
CATEGORIES:Corsi di formazione
END:VEVENT
BEGIN:VEVENT
DTSTART;TZID=Europe/Rome:20250730T180000
DTEND;TZID=Europe/Rome:20250730T200000
DTSTAMP:20260423T114944
CREATED:20250530T074930Z
LAST-MODIFIED:20250604T122309Z
UID:23215-1753898400-1753905600@ordingal.it
SUMMARY:Consiglio Ordine Ingegneri
DESCRIPTION:
URL:https://ordingal.it/event/consiglio-ordine-ingegneri-6/
LOCATION:Corso Teresio Borsalino 17 – Alessandria\, Corso Teresio Borsalino 17\, Alessandria\, AL\, 15121\, Italia
CATEGORIES:Consigli
END:VEVENT
END:VCALENDAR