BEGIN:VCALENDAR
VERSION:2.0
PRODID:-//Ordine degli Ingegneri della Provincia di Alessandria - ECPv6.15.11//NONSGML v1.0//EN
CALSCALE:GREGORIAN
METHOD:PUBLISH
X-ORIGINAL-URL:https://ordingal.it
X-WR-CALDESC:Eventi per Ordine degli Ingegneri della Provincia di Alessandria
REFRESH-INTERVAL;VALUE=DURATION:PT1H
X-Robots-Tag:noindex
X-PUBLISHED-TTL:PT1H
BEGIN:VTIMEZONE
TZID:Europe/Rome
BEGIN:DAYLIGHT
TZOFFSETFROM:+0100
TZOFFSETTO:+0200
TZNAME:CEST
DTSTART:20240331T010000
END:DAYLIGHT
BEGIN:STANDARD
TZOFFSETFROM:+0200
TZOFFSETTO:+0100
TZNAME:CET
DTSTART:20241027T010000
END:STANDARD
BEGIN:DAYLIGHT
TZOFFSETFROM:+0100
TZOFFSETTO:+0200
TZNAME:CEST
DTSTART:20250330T010000
END:DAYLIGHT
BEGIN:STANDARD
TZOFFSETFROM:+0200
TZOFFSETTO:+0100
TZNAME:CET
DTSTART:20251026T010000
END:STANDARD
BEGIN:DAYLIGHT
TZOFFSETFROM:+0100
TZOFFSETTO:+0200
TZNAME:CEST
DTSTART:20260329T010000
END:DAYLIGHT
BEGIN:STANDARD
TZOFFSETFROM:+0200
TZOFFSETTO:+0100
TZNAME:CET
DTSTART:20261025T010000
END:STANDARD
END:VTIMEZONE
BEGIN:VEVENT
DTSTART;TZID=Europe/Rome:20250310T143000
DTEND;TZID=Europe/Rome:20250310T173000
DTSTAMP:20260421T051611
CREATED:20250122T101523Z
LAST-MODIFIED:20250220T130344Z
UID:22859-1741617000-1741627800@ordingal.it
SUMMARY:FAD sincrona SEMINARIO “Correttivo ai lavori pubblici"
DESCRIPTION:
URL:https://ordingal.it/event/in-fase-di-pubblicazione-webinar-su-correttivo-llpp-base-dasta-e-equo-compenso/
LOCATION:FAD
CATEGORIES:Corsi di formazione
END:VEVENT
BEGIN:VEVENT
DTSTART;TZID=Europe/Rome:20250312T180000
DTEND;TZID=Europe/Rome:20250312T193000
DTSTAMP:20260421T051611
CREATED:20250120T110140Z
LAST-MODIFIED:20250120T111047Z
UID:22834-1741802400-1741807800@ordingal.it
SUMMARY:Consiglio Ordine Ingegneri
DESCRIPTION:
URL:https://ordingal.it/event/consiglio-dellordine/
LOCATION:Corso Teresio Borsalino 17 – Alessandria\, Corso Teresio Borsalino 17\, Alessandria\, AL\, 15121\, Italia
CATEGORIES:Consigli
END:VEVENT
BEGIN:VEVENT
DTSTART;TZID=Europe/Rome:20250314T150000
DTEND;TZID=Europe/Rome:20250314T180000
DTSTAMP:20260421T051611
CREATED:20250122T095830Z
LAST-MODIFIED:20250307T135330Z
UID:22855-1741964400-1741975200@ordingal.it
SUMMARY:seminario su DISCIPLINARI DI INCARICO PROFESSIONALE A TUTELA DEL PROFESSIONISTA E DEL COMMITTENTE
DESCRIPTION:
URL:https://ordingal.it/event/in-fase-di-pubblicazione-seminario-su-disciplinare-di-incarico-per-lavori-pubblici-e-privati/
LOCATION:Corso Teresio Borsalino 17 – Alessandria\, Corso Teresio Borsalino 17\, Alessandria\, AL\, 15121\, Italia
END:VEVENT
BEGIN:VEVENT
DTSTART;TZID=Europe/Rome:20250320T100000
DTEND;TZID=Europe/Rome:20250322T133000
DTSTAMP:20260421T051612
CREATED:20250122T103445Z
LAST-MODIFIED:20250122T103445Z
UID:22863-1742464800-1742650200@ordingal.it
SUMMARY:Convocazione Assemblea dei Presidenti ad Agrigento
DESCRIPTION:
URL:https://ordingal.it/event/convocazione-assemblea-dei-presidenti-ad-agrigento/
LOCATION:AL
END:VEVENT
BEGIN:VEVENT
DTSTART;TZID=Europe/Rome:20250328T160000
DTEND;TZID=Europe/Rome:20250328T190000
DTSTAMP:20260421T051612
CREATED:20250120T105943Z
LAST-MODIFIED:20250205T095213Z
UID:22832-1743177600-1743188400@ordingal.it
SUMMARY:ASSEMBLEA DEGLI ISCRITTI
DESCRIPTION:
URL:https://ordingal.it/event/assemblea-degli-iscritti/
LOCATION:Hotel Alli due buoi rossi\, Via Cavour\, 32\, Alessandria\, 15121
CATEGORIES:Assemblea Iscritti
END:VEVENT
BEGIN:VEVENT
DTSTART;TZID=Europe/Rome:20250328T170000
DTEND;TZID=Europe/Rome:20250328T193000
DTSTAMP:20260421T051612
CREATED:20250311T104243Z
LAST-MODIFIED:20250311T104243Z
UID:23000-1743181200-1743190200@ordingal.it
SUMMARY:Seminario INFRASTRUTTURE E NUOVE TECNOLOGIE. L'INGEGNERE PER UNIRE
DESCRIPTION:
URL:https://ordingal.it/event/seminario-infrastrutture-e-nuove-tecnologie-lingegnere-per-unire/
LOCATION:Hotel Alli due buoi rossi\, Via Cavour\, 32\, Alessandria\, 15121
CATEGORIES:Assemblea Iscritti,Corsi di formazione
END:VEVENT
END:VCALENDAR