BEGIN:VCALENDAR
VERSION:2.0
PRODID:-//Ordine degli Ingegneri della Provincia di Alessandria - ECPv6.15.11//NONSGML v1.0//EN
CALSCALE:GREGORIAN
METHOD:PUBLISH
X-ORIGINAL-URL:https://ordingal.it
X-WR-CALDESC:Eventi per Ordine degli Ingegneri della Provincia di Alessandria
REFRESH-INTERVAL;VALUE=DURATION:PT1H
X-Robots-Tag:noindex
X-PUBLISHED-TTL:PT1H
BEGIN:VTIMEZONE
TZID:Europe/Paris
BEGIN:DAYLIGHT
TZOFFSETFROM:+0100
TZOFFSETTO:+0200
TZNAME:CEST
DTSTART:20230326T010000
END:DAYLIGHT
BEGIN:STANDARD
TZOFFSETFROM:+0200
TZOFFSETTO:+0100
TZNAME:CET
DTSTART:20231029T010000
END:STANDARD
BEGIN:DAYLIGHT
TZOFFSETFROM:+0100
TZOFFSETTO:+0200
TZNAME:CEST
DTSTART:20240331T010000
END:DAYLIGHT
BEGIN:STANDARD
TZOFFSETFROM:+0200
TZOFFSETTO:+0100
TZNAME:CET
DTSTART:20241027T010000
END:STANDARD
BEGIN:DAYLIGHT
TZOFFSETFROM:+0100
TZOFFSETTO:+0200
TZNAME:CEST
DTSTART:20250330T010000
END:DAYLIGHT
BEGIN:STANDARD
TZOFFSETFROM:+0200
TZOFFSETTO:+0100
TZNAME:CET
DTSTART:20251026T010000
END:STANDARD
END:VTIMEZONE
BEGIN:VTIMEZONE
TZID:Europe/Rome
BEGIN:DAYLIGHT
TZOFFSETFROM:+0100
TZOFFSETTO:+0200
TZNAME:CEST
DTSTART:20240331T010000
END:DAYLIGHT
BEGIN:STANDARD
TZOFFSETFROM:+0200
TZOFFSETTO:+0100
TZNAME:CET
DTSTART:20241027T010000
END:STANDARD
BEGIN:DAYLIGHT
TZOFFSETFROM:+0100
TZOFFSETTO:+0200
TZNAME:CEST
DTSTART:20250330T010000
END:DAYLIGHT
BEGIN:STANDARD
TZOFFSETFROM:+0200
TZOFFSETTO:+0100
TZNAME:CET
DTSTART:20251026T010000
END:STANDARD
BEGIN:DAYLIGHT
TZOFFSETFROM:+0100
TZOFFSETTO:+0200
TZNAME:CEST
DTSTART:20260329T010000
END:DAYLIGHT
BEGIN:STANDARD
TZOFFSETFROM:+0200
TZOFFSETTO:+0100
TZNAME:CET
DTSTART:20261025T010000
END:STANDARD
END:VTIMEZONE
BEGIN:VEVENT
DTSTART;TZID=Europe/Paris:20241218T080000
DTEND;TZID=Europe/Paris:20241218T170000
DTSTAMP:20260421T064834
CREATED:20240621T054803Z
LAST-MODIFIED:20240823T135531Z
UID:5439-1734508800-1734541200@ordingal.it
SUMMARY:Consiglio Ordine Ingegneri
DESCRIPTION:
URL:https://ordingal.it/event/consiglio-ordine-ingegneri-250/
LOCATION:AL
CATEGORIES:Consigli
END:VEVENT
BEGIN:VEVENT
DTSTART;TZID=Europe/Rome:20250114T180000
DTEND;TZID=Europe/Rome:20250114T200000
DTSTAMP:20260421T064834
CREATED:20241220T074055Z
LAST-MODIFIED:20241220T074055Z
UID:22749-1736877600-1736884800@ordingal.it
SUMMARY:Consiglio Ordine Ingegneri
DESCRIPTION:
URL:https://ordingal.it/event/consiglio-ordine-ingegneri/
LOCATION:Corso Teresio Borsalino 17 – Alessandria\, Corso Teresio Borsalino 17\, Alessandria\, AL\, 15121\, Italia
CATEGORIES:Consigli
END:VEVENT
BEGIN:VEVENT
DTSTART;TZID=Europe/Rome:20250123T090000
DTEND;TZID=Europe/Rome:20250123T133000
DTSTAMP:20260421T064834
CREATED:20241220T075146Z
LAST-MODIFIED:20250110T073343Z
UID:22757-1737622800-1737639000@ordingal.it
SUMMARY:Seminario” L’autostrada del futuro.Soluzioni intelligenti\, trend tecnologici e casi d’uso”
DESCRIPTION:
URL:https://ordingal.it/event/seminario-in-fase-di-pubblicazione/
LOCATION:sala conferenze del PST SINA\, sala conferenze del PST SINA di Tortona: Strada Comunale Savonesa\, 9\,\, Rivalta Scrivia\, Tortona AL
CATEGORIES:Corsi di formazione
END:VEVENT
BEGIN:VEVENT
DTSTART;TZID=Europe/Rome:20250128T180000
DTEND;TZID=Europe/Rome:20250128T200000
DTSTAMP:20260421T064834
CREATED:20241220T074146Z
LAST-MODIFIED:20241220T074146Z
UID:22751-1738087200-1738094400@ordingal.it
SUMMARY:Consiglio Ordine Ingegneri
DESCRIPTION:
URL:https://ordingal.it/event/consiglio-ordine-ingegneri-2/
LOCATION:Corso Teresio Borsalino 17 – Alessandria\, Corso Teresio Borsalino 17\, Alessandria\, AL\, 15121\, Italia
CATEGORIES:Consigli
END:VEVENT
BEGIN:VEVENT
DTSTART;TZID=Europe/Rome:20250129T173000
DTEND;TZID=Europe/Rome:20250129T190000
DTSTAMP:20260421T064834
CREATED:20250124T072136Z
LAST-MODIFIED:20250124T100537Z
UID:22875-1738171800-1738177200@ordingal.it
SUMMARY:Commissione Acustica e Impianti e Commissione Energia
DESCRIPTION:Le commissioni sono convocate in modalità mista con il seguente o.d.g.: \n\nPanoramica corsi oganizzati e da progettare per l’anno 2025;\nCollegamento con ing. Pietro Garibaldi di Istituto Clima Liguria;\nPianificazione attività acustica;\nSpazio proposte da parte di tutti.\nVarie ed eventuali.
URL:https://ordingal.it/event/commissione-acustica-e-impianti-e-commissione-energia/
LOCATION:Corso Teresio Borsalino 17 – Alessandria\, Corso Teresio Borsalino 17\, Alessandria\, AL\, 15121\, Italia
CATEGORIES:Commissioni
END:VEVENT
BEGIN:VEVENT
DTSTART;TZID=Europe/Rome:20250131T170000
DTEND;TZID=Europe/Rome:20250131T190000
DTSTAMP:20260421T064834
CREATED:20250124T072223Z
LAST-MODIFIED:20250124T100653Z
UID:22878-1738342800-1738350000@ordingal.it
SUMMARY:Commissione Innovazione e Gestione Aziendale
DESCRIPTION:La commissione è convocata in modalità telematica con il seguente Odg: \n\nProseguimento definizione della vision e della mission della commissione\nProposta visita presso Solvay Spinetta per 5G\nVarie ed eventuali
URL:https://ordingal.it/event/commissione-innovazione/
LOCATION:FAD
CATEGORIES:Commissioni
END:VEVENT
BEGIN:VEVENT
DTSTART;TZID=Europe/Rome:20250205T143000
DTEND;TZID=Europe/Rome:20250205T183000
DTSTAMP:20260421T064834
CREATED:20250110T073106Z
LAST-MODIFIED:20250110T073106Z
UID:22769-1738765800-1738780200@ordingal.it
SUMMARY:Corso di aggiornamento Gas RADON negli edifici - obblighi normativi - interventi di protezione
DESCRIPTION:
URL:https://ordingal.it/event/corso-di-aggiornamento-gas-radon-negli-edifici-obblighi-normativi-interventi-di-protezione/
LOCATION:Corso Teresio Borsalino 17 – Alessandria\, Corso Teresio Borsalino 17\, Alessandria\, AL\, 15121\, Italia
CATEGORIES:Corsi di formazione
END:VEVENT
BEGIN:VEVENT
DTSTART;TZID=Europe/Rome:20250211T180000
DTEND;TZID=Europe/Rome:20250211T200000
DTSTAMP:20260421T064834
CREATED:20241220T074240Z
LAST-MODIFIED:20241220T074240Z
UID:22753-1739296800-1739304000@ordingal.it
SUMMARY:Consiglio Ordine Ingegneri
DESCRIPTION:
URL:https://ordingal.it/event/consiglio-ordine-ingegneri-3/
LOCATION:Corso Teresio Borsalino 17 – Alessandria\, Corso Teresio Borsalino 17\, Alessandria\, AL\, 15121\, Italia
CATEGORIES:Consigli
END:VEVENT
BEGIN:VEVENT
DTSTART;TZID=Europe/Rome:20250212T143000
DTEND;TZID=Europe/Rome:20250212T173000
DTSTAMP:20260421T064834
CREATED:20250115T110924Z
LAST-MODIFIED:20250117T091652Z
UID:22784-1739370600-1739381400@ordingal.it
SUMMARY:FORMAZIONE ESPERTO ENERGETICO Lezione n.1 Corso "Bilanciamento dei sistemi idronici"
DESCRIPTION:
URL:https://ordingal.it/event/in-fase-di-pubblicazione-seminario-bilanciamento-dei-sistemi-idronici/
LOCATION:Corso Teresio Borsalino 17 – Alessandria\, Corso Teresio Borsalino 17\, Alessandria\, AL\, 15121\, Italia
CATEGORIES:Corsi di formazione
END:VEVENT
BEGIN:VEVENT
DTSTART;TZID=Europe/Rome:20250217T153000
DTEND;TZID=Europe/Rome:20250217T183000
DTSTAMP:20260421T064834
CREATED:20250115T111113Z
LAST-MODIFIED:20250117T091553Z
UID:22788-1739806200-1739817000@ordingal.it
SUMMARY:Corso di aggiornamento RENTRI:  nuove modalità per la gestione amministrativa dei rifiuti
DESCRIPTION:
URL:https://ordingal.it/event/in-fase-di-pubblicazione-corso-di-aggiornamento-rentri-nuove-modalita-per-la-gestione-amministrativa-dei-rifiuti/
LOCATION:Corso Teresio Borsalino 17 – Alessandria\, Corso Teresio Borsalino 17\, Alessandria\, AL\, 15121\, Italia
CATEGORIES:Corsi di formazione
END:VEVENT
BEGIN:VEVENT
DTSTART;TZID=Europe/Rome:20250221T153000
DTEND;TZID=Europe/Rome:20250222T133000
DTSTAMP:20260421T064834
CREATED:20250121T084538Z
LAST-MODIFIED:20250121T085103Z
UID:22850-1740151800-1740231000@ordingal.it
SUMMARY:convocazione ASSEMBLEA DEI PRESIDENTI
DESCRIPTION:
URL:https://ordingal.it/event/assemblea-dei-presidenti-3/
LOCATION:ROMA – Hotel Massimo d’Azeglio\, Via Cavour\, 18\, ROMA
CATEGORIES:Assemblea dei Presidenti
END:VEVENT
BEGIN:VEVENT
DTSTART;TZID=Europe/Rome:20250225T180000
DTEND;TZID=Europe/Rome:20250225T200000
DTSTAMP:20260421T064834
CREATED:20241220T075016Z
LAST-MODIFIED:20241220T075016Z
UID:22755-1740506400-1740513600@ordingal.it
SUMMARY:Consiglio Ordine Ingegneri
DESCRIPTION:
URL:https://ordingal.it/event/consiglio-ordine-ingegneri-4/
LOCATION:Corso Teresio Borsalino 17 – Alessandria\, Corso Teresio Borsalino 17\, Alessandria\, AL\, 15121\, Italia
CATEGORIES:Consigli
END:VEVENT
BEGIN:VEVENT
DTSTART;TZID=Europe/Rome:20250227T150000
DTEND;TZID=Europe/Rome:20250227T190000
DTSTAMP:20260421T064834
CREATED:20250115T111312Z
LAST-MODIFIED:20250117T091500Z
UID:22790-1740668400-1740682800@ordingal.it
SUMMARY:FORMAZIONE ESPERTO ENERGETICO - Lezione n. 2 Corso “L'architettura bioclimatica "
DESCRIPTION:
URL:https://ordingal.it/event/in-fase-di-pubblicazione-corso-larchitettura-bioclimatica-ll-risparmio-energetico-inizia-dal-progetto-architettonico/
LOCATION:Corso Teresio Borsalino 17 – Alessandria\, Corso Teresio Borsalino 17\, Alessandria\, AL\, 15121\, Italia
CATEGORIES:Corsi di formazione
END:VEVENT
BEGIN:VEVENT
DTSTART;TZID=Europe/Rome:20250310T143000
DTEND;TZID=Europe/Rome:20250310T173000
DTSTAMP:20260421T064834
CREATED:20250122T101523Z
LAST-MODIFIED:20250220T130344Z
UID:22859-1741617000-1741627800@ordingal.it
SUMMARY:FAD sincrona SEMINARIO “Correttivo ai lavori pubblici"
DESCRIPTION:
URL:https://ordingal.it/event/in-fase-di-pubblicazione-webinar-su-correttivo-llpp-base-dasta-e-equo-compenso/
LOCATION:FAD
CATEGORIES:Corsi di formazione
END:VEVENT
BEGIN:VEVENT
DTSTART;TZID=Europe/Rome:20250312T180000
DTEND;TZID=Europe/Rome:20250312T193000
DTSTAMP:20260421T064834
CREATED:20250120T110140Z
LAST-MODIFIED:20250120T111047Z
UID:22834-1741802400-1741807800@ordingal.it
SUMMARY:Consiglio Ordine Ingegneri
DESCRIPTION:
URL:https://ordingal.it/event/consiglio-dellordine/
LOCATION:Corso Teresio Borsalino 17 – Alessandria\, Corso Teresio Borsalino 17\, Alessandria\, AL\, 15121\, Italia
CATEGORIES:Consigli
END:VEVENT
BEGIN:VEVENT
DTSTART;TZID=Europe/Rome:20250314T150000
DTEND;TZID=Europe/Rome:20250314T180000
DTSTAMP:20260421T064834
CREATED:20250122T095830Z
LAST-MODIFIED:20250307T135330Z
UID:22855-1741964400-1741975200@ordingal.it
SUMMARY:seminario su DISCIPLINARI DI INCARICO PROFESSIONALE A TUTELA DEL PROFESSIONISTA E DEL COMMITTENTE
DESCRIPTION:
URL:https://ordingal.it/event/in-fase-di-pubblicazione-seminario-su-disciplinare-di-incarico-per-lavori-pubblici-e-privati/
LOCATION:Corso Teresio Borsalino 17 – Alessandria\, Corso Teresio Borsalino 17\, Alessandria\, AL\, 15121\, Italia
END:VEVENT
BEGIN:VEVENT
DTSTART;TZID=Europe/Rome:20250320T100000
DTEND;TZID=Europe/Rome:20250322T133000
DTSTAMP:20260421T064834
CREATED:20250122T103445Z
LAST-MODIFIED:20250122T103445Z
UID:22863-1742464800-1742650200@ordingal.it
SUMMARY:Convocazione Assemblea dei Presidenti ad Agrigento
DESCRIPTION:
URL:https://ordingal.it/event/convocazione-assemblea-dei-presidenti-ad-agrigento/
LOCATION:AL
END:VEVENT
BEGIN:VEVENT
DTSTART;TZID=Europe/Rome:20250328T160000
DTEND;TZID=Europe/Rome:20250328T190000
DTSTAMP:20260421T064834
CREATED:20250120T105943Z
LAST-MODIFIED:20250205T095213Z
UID:22832-1743177600-1743188400@ordingal.it
SUMMARY:ASSEMBLEA DEGLI ISCRITTI
DESCRIPTION:
URL:https://ordingal.it/event/assemblea-degli-iscritti/
LOCATION:Hotel Alli due buoi rossi\, Via Cavour\, 32\, Alessandria\, 15121
CATEGORIES:Assemblea Iscritti
END:VEVENT
BEGIN:VEVENT
DTSTART;TZID=Europe/Rome:20250328T170000
DTEND;TZID=Europe/Rome:20250328T193000
DTSTAMP:20260421T064834
CREATED:20250311T104243Z
LAST-MODIFIED:20250311T104243Z
UID:23000-1743181200-1743190200@ordingal.it
SUMMARY:Seminario INFRASTRUTTURE E NUOVE TECNOLOGIE. L'INGEGNERE PER UNIRE
DESCRIPTION:
URL:https://ordingal.it/event/seminario-infrastrutture-e-nuove-tecnologie-lingegnere-per-unire/
LOCATION:Hotel Alli due buoi rossi\, Via Cavour\, 32\, Alessandria\, 15121
CATEGORIES:Assemblea Iscritti,Corsi di formazione
END:VEVENT
BEGIN:VEVENT
DTSTART;TZID=Europe/Rome:20250408T180000
DTEND;TZID=Europe/Rome:20250408T200000
DTSTAMP:20260421T064834
CREATED:20250206T165217Z
LAST-MODIFIED:20250402T071608Z
UID:22948-1744135200-1744142400@ordingal.it
SUMMARY:Consiglio dell'Ordine Ingegneri
DESCRIPTION:
URL:https://ordingal.it/event/consiglio-dellordine-ingegneri/
LOCATION:Corso Teresio Borsalino 17 – Alessandria\, Corso Teresio Borsalino 17\, Alessandria\, AL\, 15121\, Italia
CATEGORIES:Consigli
END:VEVENT
BEGIN:VEVENT
DTSTART;TZID=Europe/Rome:20250415T173000
DTEND;TZID=Europe/Rome:20250415T190000
DTSTAMP:20260421T064834
CREATED:20250408T071638Z
LAST-MODIFIED:20250408T071656Z
UID:23060-1744738200-1744743600@ordingal.it
SUMMARY:Commissione Energia e Commissione Acustica ed Impianti
DESCRIPTION:La Commissione Energia e la Commissione Acustica ed Impianti sono convocate per martedì 15 aprile 2025 ore 17.30 in modalità mista ( presso la sede dell’Ordine o in videoconferenza: link: https://us06web.zoom.us/j/84881719026 ) con il seguente o.d.g.: \n\nCorsi come esperto energetico: programmati e in progress;\nPianificazione attività acustica;\nVarie ed eventuali.
URL:https://ordingal.it/event/commissione-energia-e-commissione-acustica-ed-impianti/
LOCATION:Corso Teresio Borsalino 17 – Alessandria\, Corso Teresio Borsalino 17\, Alessandria\, AL\, 15121\, Italia
CATEGORIES:Commissioni
END:VEVENT
BEGIN:VEVENT
DTSTART;TZID=Europe/Rome:20250430T180000
DTEND;TZID=Europe/Rome:20250430T200000
DTSTAMP:20260421T064834
CREATED:20250206T165323Z
LAST-MODIFIED:20250206T165323Z
UID:22950-1746036000-1746043200@ordingal.it
SUMMARY:Consiglio dell'Ordine Ingegneri
DESCRIPTION:
URL:https://ordingal.it/event/consiglio-dellordine-ingegneri-2/
LOCATION:Corso Teresio Borsalino 17 – Alessandria\, Corso Teresio Borsalino 17\, Alessandria\, AL\, 15121\, Italia
CATEGORIES:Consigli
END:VEVENT
BEGIN:VEVENT
DTSTART;TZID=Europe/Rome:20250505T143000
DTEND;TZID=Europe/Rome:20250505T183000
DTSTAMP:20260421T064834
CREATED:20250319T114330Z
LAST-MODIFIED:20250331T131107Z
UID:23022-1746455400-1746469800@ordingal.it
SUMMARY:Seminario L’INTELLIGENZA ARTIFICIALE AL LAVORO: POTENZIALITA’ E DIFFICOLTA’
DESCRIPTION:
URL:https://ordingal.it/event/in-fase-di-pubblicazione-seminario-lintelligenza-artificiale-al-lavoro-potenzialita-e-difficolta/
LOCATION:Università del Piemonte Orientale – UPO –\, Viale Teresa Michel\, 11\, ALESSANDRIA
CATEGORIES:Corsi di formazione
END:VEVENT
BEGIN:VEVENT
DTSTART;TZID=Europe/Rome:20250506T143000
DTEND;TZID=Europe/Rome:20250506T183000
DTSTAMP:20260421T064834
CREATED:20250319T112731Z
LAST-MODIFIED:20250414T081519Z
UID:23019-1746541800-1746556200@ordingal.it
SUMMARY:FORMAZIONE ESPERTO ENERGETICO -Lezione n.3 - Corso di aggiornamento Prevenzione incendi (4 ore) “Le problematiche di sicurezza antincendio per la corretta gestione e realizzazione degli impianti in pompa di calore ad espansione diretta che utilizzano gas
DESCRIPTION:
URL:https://ordingal.it/event/formazione-esperto-energetico-lezione-n-3-corso-di-aggiornamento-prevenzione-incendi-4-ore-le-problematiche-di-sicurezza-antincendio-per-la-corretta-gestione-e-realizzazione-degli-impian/
LOCATION:Scuola Edile\, Zona artigianale D3 Viale dell'Industria\, 56\, Alessandria
CATEGORIES:Corsi di formazione
END:VEVENT
BEGIN:VEVENT
DTSTART;TZID=Europe/Rome:20250508T143000
DTEND;TZID=Europe/Rome:20250508T183000
DTSTAMP:20260421T064834
CREATED:20250402T073727Z
LAST-MODIFIED:20250408T082434Z
UID:23034-1746714600-1746729000@ordingal.it
SUMMARY:FORMAZIONE ESPERTO ENERGETICO Lezione n. 4 -Seminario di aggiornamento “EDIFICI IN MURATURA\, SOLUZIONI PER IL RISPARMIO ENERGETICO IN SICUREZZA"
DESCRIPTION:
URL:https://ordingal.it/event/in-fase-di-pubblicazione-seminario-di-aggiornamento-la-progettazione-di-edifici-in-muratura/
LOCATION:Corso Teresio Borsalino 17 – Alessandria\, Corso Teresio Borsalino 17\, Alessandria\, AL\, 15121\, Italia
CATEGORIES:Corsi di formazione
END:VEVENT
BEGIN:VEVENT
DTSTART;TZID=Europe/Rome:20250508T180000
DTEND;TZID=Europe/Rome:20250508T203000
DTSTAMP:20260421T064834
CREATED:20250429T093245Z
LAST-MODIFIED:20250429T093441Z
UID:23136-1746727200-1746736200@ordingal.it
SUMMARY:Commissione Aerospaziale
DESCRIPTION:La convocazione della Commissione Aerospaziale è programmata per giovedì 8 maggio 2025 ore 18.00 presso la sede dell’Ordine\, con il seguente o.d.g. \n\nInsediamento della Commissione\nNomina del Coordinatore\nVarie ed eventuali\n\nIl presente avviso è trasmesso tramite circolare informatica a tutti gli iscritti\, ed è rivolto in particolare agli iscritti ai settori B e C delle sezioni A e B per l’interdisciplinarietà delle materie trattate e per il loro possibile coinvolgimento in un settore\, che magari non è ritenuto di immediato interesse\, ma che potrebbe essere foriero di possibili futuri positivi sviluppi. \nIl Consigliere delegato della Commissione Aerospaziale\ning. Antonio Zanardi
URL:https://ordingal.it/event/commissione-aerospaziale/
LOCATION:Corso Teresio Borsalino 17 – Alessandria\, Corso Teresio Borsalino 17\, Alessandria\, AL\, 15121\, Italia
CATEGORIES:Commissioni
END:VEVENT
BEGIN:VEVENT
DTSTART;TZID=Europe/Rome:20250514T180000
DTEND;TZID=Europe/Rome:20250514T200000
DTSTAMP:20260421T064834
CREATED:20250206T165504Z
LAST-MODIFIED:20250206T165504Z
UID:22952-1747245600-1747252800@ordingal.it
SUMMARY:Consiglio dell'Ordine Ingegneri
DESCRIPTION:
URL:https://ordingal.it/event/consiglio-dellordine-ingegneri-3/
LOCATION:Corso Teresio Borsalino 17 – Alessandria\, Corso Teresio Borsalino 17\, Alessandria\, AL\, 15121\, Italia
CATEGORIES:Consigli
END:VEVENT
BEGIN:VEVENT
DTSTART;TZID=Europe/Rome:20250516T170000
DTEND;TZID=Europe/Rome:20250516T183000
DTSTAMP:20260421T064834
CREATED:20250506T094753Z
LAST-MODIFIED:20250506T094900Z
UID:23150-1747414800-1747420200@ordingal.it
SUMMARY:FIOPA CONVOCAZIONE RIUNIONE DI CONSIGLIO N°01/25
DESCRIPTION:
URL:https://ordingal.it/event/riunione-di-consiglio-n01-25/
LOCATION:ORDINE INGEGNERI DI TORINO\, CORSO TRENTO\, 21\, TORINO
CATEGORIES:FIOPA
END:VEVENT
BEGIN:VEVENT
DTSTART;TZID=Europe/Rome:20250520T143000
DTEND;TZID=Europe/Rome:20250520T183000
DTSTAMP:20260421T064834
CREATED:20250319T112529Z
LAST-MODIFIED:20250411T083333Z
UID:23017-1747751400-1747765800@ordingal.it
SUMMARY:Corso di aggiornamento Prevenzione incendi (4 ore) "Prevenzione incendi in attività comportanti la presenza di generatori fotovoltaici e di impianti e sistemi di accumulo di energia con batterie al litio"
DESCRIPTION:
URL:https://ordingal.it/event/in-fase-di-pubblicazione-corso-di-aggiornamento-prevenzione-incendi-4-ore/
LOCATION:Scuola Edile\, Zona artigianale D3 Viale dell'Industria\, 56\, Alessandria
CATEGORIES:Corsi di formazione
END:VEVENT
BEGIN:VEVENT
DTSTART;TZID=Europe/Rome:20250527T180000
DTEND;TZID=Europe/Rome:20250527T200000
DTSTAMP:20260421T064834
CREATED:20250206T165608Z
LAST-MODIFIED:20250411T103601Z
UID:22954-1748368800-1748376000@ordingal.it
SUMMARY:Consiglio dell'Ordine Ingegneri
DESCRIPTION:
URL:https://ordingal.it/event/consiglio-dellordine-ingegneri-4/
LOCATION:Corso Teresio Borsalino 17 – Alessandria\, Corso Teresio Borsalino 17\, Alessandria\, AL\, 15121\, Italia
CATEGORIES:Consigli
END:VEVENT
END:VCALENDAR