BEGIN:VCALENDAR
VERSION:2.0
PRODID:-//Ordine degli Ingegneri della Provincia di Alessandria - ECPv6.15.11//NONSGML v1.0//EN
CALSCALE:GREGORIAN
METHOD:PUBLISH
X-WR-CALNAME:Ordine degli Ingegneri della Provincia di Alessandria
X-ORIGINAL-URL:https://ordingal.it
X-WR-CALDESC:Eventi per Ordine degli Ingegneri della Provincia di Alessandria
REFRESH-INTERVAL;VALUE=DURATION:PT1H
X-Robots-Tag:noindex
X-PUBLISHED-TTL:PT1H
BEGIN:VTIMEZONE
TZID:Europe/Rome
BEGIN:DAYLIGHT
TZOFFSETFROM:+0100
TZOFFSETTO:+0200
TZNAME:CEST
DTSTART:20240331T010000
END:DAYLIGHT
BEGIN:STANDARD
TZOFFSETFROM:+0200
TZOFFSETTO:+0100
TZNAME:CET
DTSTART:20241027T010000
END:STANDARD
BEGIN:DAYLIGHT
TZOFFSETFROM:+0100
TZOFFSETTO:+0200
TZNAME:CEST
DTSTART:20250330T010000
END:DAYLIGHT
BEGIN:STANDARD
TZOFFSETFROM:+0200
TZOFFSETTO:+0100
TZNAME:CET
DTSTART:20251026T010000
END:STANDARD
BEGIN:DAYLIGHT
TZOFFSETFROM:+0100
TZOFFSETTO:+0200
TZNAME:CEST
DTSTART:20260329T010000
END:DAYLIGHT
BEGIN:STANDARD
TZOFFSETFROM:+0200
TZOFFSETTO:+0100
TZNAME:CET
DTSTART:20261025T010000
END:STANDARD
BEGIN:DAYLIGHT
TZOFFSETFROM:+0100
TZOFFSETTO:+0200
TZNAME:CEST
DTSTART:20270328T010000
END:DAYLIGHT
BEGIN:STANDARD
TZOFFSETFROM:+0200
TZOFFSETTO:+0100
TZNAME:CET
DTSTART:20271031T010000
END:STANDARD
END:VTIMEZONE
BEGIN:VEVENT
DTSTART;TZID=Europe/Rome:20251024T143000
DTEND;TZID=Europe/Rome:20251024T183000
DTSTAMP:20260422T005415
CREATED:20250905T094454Z
LAST-MODIFIED:20250917T085906Z
UID:23375-1761316200-1761330600@ordingal.it
SUMMARY:Corso di aggiornamento Prevenzione incendi (4 ore) "Aggiornamento antincendio sui sistemi fotovoltaici\, postazioni di ricarica delle autovetture elettriche e bess”
DESCRIPTION:
URL:https://ordingal.it/event/in-fase-di-pubblicazione-corso-di-agg-prevenzione-incendi/
LOCATION:Scuola Edile\, Zona artigianale D3 Viale dell'Industria\, 56\, Alessandria
CATEGORIES:Corsi di formazione
END:VEVENT
BEGIN:VEVENT
DTSTART;TZID=Europe/Rome:20251029T180000
DTEND;TZID=Europe/Rome:20251029T200000
DTSTAMP:20260422T005415
CREATED:20250530T075857Z
LAST-MODIFIED:20250530T075857Z
UID:23225-1761760800-1761768000@ordingal.it
SUMMARY:Consiglio Ordine Ingegneri
DESCRIPTION:
URL:https://ordingal.it/event/consiglio-ordine-ingegneri-10/
LOCATION:Corso Teresio Borsalino 17 – Alessandria\, Corso Teresio Borsalino 17\, Alessandria\, AL\, 15121\, Italia
CATEGORIES:Consigli
END:VEVENT
BEGIN:VEVENT
DTSTART;TZID=Europe/Rome:20251030T170000
DTEND;TZID=Europe/Rome:20251030T193000
DTSTAMP:20260422T005415
CREATED:20250905T094345Z
LAST-MODIFIED:20251006T092322Z
UID:23373-1761843600-1761852600@ordingal.it
SUMMARY:Convegno - Il potenziale abitativo della Provincia di Alessandria - Rigenerare il costruito
DESCRIPTION:
URL:https://ordingal.it/event/in-fase-di-pubblicazione-convegno-ance/
LOCATION:Teatro Sociale di Valenza\, Corso Giuseppe Garibaldi\, 58\, Valenza
CATEGORIES:Corsi di formazione
END:VEVENT
BEGIN:VEVENT
DTSTART;TZID=Europe/Rome:20251112T180000
DTEND;TZID=Europe/Rome:20251112T200000
DTSTAMP:20260422T005415
CREATED:20250530T075952Z
LAST-MODIFIED:20250530T080010Z
UID:23227-1762970400-1762977600@ordingal.it
SUMMARY:Consiglio Ordine Ingegneri
DESCRIPTION:
URL:https://ordingal.it/event/consiglio-ordine-ingegneri-11/
LOCATION:Corso Teresio Borsalino 17 – Alessandria\, Corso Teresio Borsalino 17\, Alessandria\, AL\, 15121\, Italia
CATEGORIES:Consigli
END:VEVENT
BEGIN:VEVENT
DTSTART;TZID=Europe/Rome:20251113T083000
DTEND;TZID=Europe/Rome:20251113T133000
DTSTAMP:20260422T005415
CREATED:20250728T074835Z
LAST-MODIFIED:20251021T062645Z
UID:23346-1763022600-1763040600@ordingal.it
SUMMARY:CONVEGNO - La Provincia di Alessandria - Un territorio fra il mare e l'Europa
DESCRIPTION:
URL:https://ordingal.it/event/in-fase-di-pubblicazione-convegno/
LOCATION:Università del Piemonte Orientale – UPO –\, Viale Teresa Michel\, 11\, ALESSANDRIA
CATEGORIES:Corsi di formazione
END:VEVENT
BEGIN:VEVENT
DTSTART;TZID=Europe/Rome:20251119T173000
DTEND;TZID=Europe/Rome:20251119T190000
DTSTAMP:20260422T005415
CREATED:20251107T073538Z
LAST-MODIFIED:20251107T073538Z
UID:23531-1763573400-1763578800@ordingal.it
SUMMARY:Commissione Energia e la Commissione Acustica ed Impianti
DESCRIPTION:La Commissione Energia e la Commissione Acustica ed Impianti sono convocate per mercoledì 19 novembre 2025 ore 17.30 in videoconferenza con il seguente o.d.g.: \n\nProgrammazione lavori;\nProgrammazione corsi;\nFocus conto termico 3.0 in vista dell’entrata in vigore a fine dicembre;\nVarie ed eventuali.
URL:https://ordingal.it/event/commissione-energia-e-la-commissione-acustica-ed-impianti/
LOCATION:FAD
CATEGORIES:Commissioni
END:VEVENT
BEGIN:VEVENT
DTSTART;TZID=Europe/Rome:20251121T170000
DTEND;TZID=Europe/Rome:20251121T190000
DTSTAMP:20260422T005415
CREATED:20250919T072647Z
LAST-MODIFIED:20251015T211157Z
UID:23448-1763744400-1763751600@ordingal.it
SUMMARY:Corso in etica e deontologia professionale
DESCRIPTION:
URL:https://ordingal.it/event/in-fase-di-pubblicazione-seminario-di-aggiornamento/
LOCATION:Corso Teresio Borsalino 17 – Alessandria\, Corso Teresio Borsalino 17\, Alessandria\, AL\, 15121\, Italia
CATEGORIES:Corsi di formazione
END:VEVENT
BEGIN:VEVENT
DTSTART;TZID=Europe/Rome:20251126T080000
DTEND;TZID=Europe/Rome:20251126T170000
DTSTAMP:20260422T005415
CREATED:20250530T080110Z
LAST-MODIFIED:20250530T080110Z
UID:23229-1764144000-1764176400@ordingal.it
SUMMARY:Consiglio Ordine Ingegneri
DESCRIPTION:
URL:https://ordingal.it/event/consiglio-ordine-ingegneri-12/
LOCATION:Corso Teresio Borsalino 17 – Alessandria\, Corso Teresio Borsalino 17\, Alessandria\, AL\, 15121\, Italia
CATEGORIES:Consigli
END:VEVENT
BEGIN:VEVENT
DTSTART;TZID=Europe/Rome:20251202T090000
DTEND;TZID=Europe/Rome:20251202T133000
DTSTAMP:20260422T005415
CREATED:20251105T090356Z
LAST-MODIFIED:20251105T113356Z
UID:23521-1764666000-1764682200@ordingal.it
SUMMARY:Seminario di aggiornamento “Conoscenza del territorio e Building Information Modeling: tecniche ed applicazioni”
DESCRIPTION:
URL:https://ordingal.it/event/in-fase-di-pubblicazione-seminario-di-aggiornamento-conoscenza-del-territorio-e-building-information-modeling-tecniche-ed-applicazioni/
LOCATION:ITINERA\, ITINERA Strada Statale 10 per Alessandria n. 6/A\, Tortona (AL)
CATEGORIES:Corsi di formazione
END:VEVENT
BEGIN:VEVENT
DTSTART;TZID=Europe/Rome:20251204T143000
DTEND;TZID=Europe/Rome:20251204T173000
DTSTAMP:20260422T005415
CREATED:20251031T110659Z
LAST-MODIFIED:20251126T080948Z
UID:23513-1764858600-1764869400@ordingal.it
SUMMARY:Corso in etica e deontologia professionale: Le responsabilità e gli obblighi dell'ingegnere iscritto all'Albo
DESCRIPTION:
URL:https://ordingal.it/event/in-fase-di-pubblicazione-le-responsabilita-e-gli-obblighi-dellingegnere-iscritto-allalbo/
LOCATION:Corso Teresio Borsalino 17 – Alessandria\, Corso Teresio Borsalino 17\, Alessandria\, AL\, 15121\, Italia
END:VEVENT
BEGIN:VEVENT
DTSTART;TZID=Europe/Rome:20251211T170000
DTEND;TZID=Europe/Rome:20251211T180000
DTSTAMP:20260422T005415
CREATED:20251010T093053Z
LAST-MODIFIED:20251010T093053Z
UID:23483-1765472400-1765476000@ordingal.it
SUMMARY:Consiglio Ordine Ingegneri
DESCRIPTION:
URL:https://ordingal.it/event/consiglio-ordine-ingegneri-13/
LOCATION:Corso Teresio Borsalino 17 – Alessandria\, Corso Teresio Borsalino 17\, Alessandria\, AL\, 15121\, Italia
CATEGORIES:Consigli
END:VEVENT
BEGIN:VEVENT
DTSTART;TZID=Europe/Rome:20251212T080000
DTEND;TZID=Europe/Rome:20251213T170000
DTSTAMP:20260422T005415
CREATED:20250411T091812Z
LAST-MODIFIED:20250411T091812Z
UID:23079-1765526400-1765645200@ordingal.it
SUMMARY:Assemblea dei Presidenti - CNI
DESCRIPTION:
URL:https://ordingal.it/event/assemblea-dei-presidenti-cni-4/
CATEGORIES:Assemblea dei Presidenti
END:VEVENT
BEGIN:VEVENT
DTSTART;TZID=Europe/Rome:20251229T180000
DTEND;TZID=Europe/Rome:20251229T190000
DTSTAMP:20260422T005415
CREATED:20251010T093203Z
LAST-MODIFIED:20251010T093203Z
UID:23485-1767031200-1767034800@ordingal.it
SUMMARY:Consiglio Ordine Ingegneri
DESCRIPTION:
URL:https://ordingal.it/event/consiglio-ordine-ingegneri-14/
LOCATION:FAD
CATEGORIES:Consigli
END:VEVENT
BEGIN:VEVENT
DTSTART;TZID=Europe/Rome:20260114T180000
DTEND;TZID=Europe/Rome:20260114T200000
DTSTAMP:20260422T005415
CREATED:20251212T085223Z
LAST-MODIFIED:20251212T085223Z
UID:23576-1768413600-1768420800@ordingal.it
SUMMARY:Consiglio Ordine
DESCRIPTION:
URL:https://ordingal.it/event/consiglio-ordine/
LOCATION:Corso Teresio Borsalino 17 – Alessandria\, Corso Teresio Borsalino 17\, Alessandria\, AL\, 15121\, Italia
CATEGORIES:Consigli
END:VEVENT
BEGIN:VEVENT
DTSTART;TZID=Europe/Rome:20260119T143000
DTEND;TZID=Europe/Rome:20260119T183000
DTSTAMP:20260422T005415
CREATED:20251021T062900Z
LAST-MODIFIED:20251212T092448Z
UID:23498-1768833000-1768847400@ordingal.it
SUMMARY:CORSO - L'applicazione dei CAM in edilizia e dei criteri DNSH alla rendicontazione di finanziamenti verdi\, con ricadute sui controlli e su audit: dopo il PNRR
DESCRIPTION:
URL:https://ordingal.it/event/in-fase-di-pubblicazione-2-ed-seminario-di-aggiornamento-cam-in-edilizia-e-la-valutazione-dnsh/
LOCATION:Corso Teresio Borsalino 17 – Alessandria\, Corso Teresio Borsalino 17\, Alessandria\, AL\, 15121\, Italia
CATEGORIES:Corsi di formazione
END:VEVENT
BEGIN:VEVENT
DTSTART;TZID=Europe/Rome:20260127T090000
DTEND;TZID=Europe/Rome:20260127T133000
DTSTAMP:20260422T005415
CREATED:20251217T093251Z
LAST-MODIFIED:20260109T084925Z
UID:23599-1769504400-1769520600@ordingal.it
SUMMARY:Seminario di aggiornamento Lavori pubblici\, geotecnologie\, gallerie e smontaggio delle opere
DESCRIPTION:
URL:https://ordingal.it/event/in-fase-di-pubblicazione-seminario-di-aggiornamento-lavori-pubblici-geotecnologie-gallerie-e-smontaggio-delle-opere/
LOCATION:ITINERA\, ITINERA Strada Statale 10 per Alessandria n. 6/A\, Tortona (AL)
CATEGORIES:Corsi di formazione
END:VEVENT
BEGIN:VEVENT
DTSTART;TZID=Europe/Rome:20260128T180000
DTEND;TZID=Europe/Rome:20260128T200000
DTSTAMP:20260422T005415
CREATED:20251212T085313Z
LAST-MODIFIED:20251212T085313Z
UID:23578-1769623200-1769630400@ordingal.it
SUMMARY:Consiglio Ordine
DESCRIPTION:
URL:https://ordingal.it/event/consiglio-ordine-2/
LOCATION:Corso Teresio Borsalino 17 – Alessandria\, Corso Teresio Borsalino 17\, Alessandria\, AL\, 15121\, Italia
CATEGORIES:Consigli
END:VEVENT
BEGIN:VEVENT
DTSTART;TZID=Europe/Rome:20260129T143000
DTEND;TZID=Europe/Rome:20260129T183000
DTSTAMP:20260422T005415
CREATED:20251217T093758Z
LAST-MODIFIED:20260112T113055Z
UID:23601-1769697000-1769711400@ordingal.it
SUMMARY:Seminario di aggiornamento "La metodologia BIM tra normativa e progettazione integrata: obblighi\, ruoli e strumenti"
DESCRIPTION:
URL:https://ordingal.it/event/in-fase-di-pubblicazione-seminario-di-aggiornamento-la-metodologia-bim-tra-normativa-e-progettazione-integrata-obblighi-ruoli-e-strumenti/
LOCATION:Scuola Edile\, Zona artigianale D3 Viale dell'Industria\, 56\, Alessandria
CATEGORIES:Corsi di formazione
END:VEVENT
BEGIN:VEVENT
DTSTART;TZID=Europe/Rome:20260209T143000
DTEND;TZID=Europe/Rome:20260209T183000
DTSTAMP:20260422T005415
CREATED:20260109T111043Z
LAST-MODIFIED:20260123T091235Z
UID:23619-1770647400-1770661800@ordingal.it
SUMMARY:Seminario di aggiornamento "Diagnosi energetica degli edifici" FAD- SINCRONA
DESCRIPTION:
URL:https://ordingal.it/event/seminario-di-aggiornamento-diagnosi-energetica-degli-edifici/
LOCATION:FAD
CATEGORIES:Corsi di formazione
END:VEVENT
BEGIN:VEVENT
DTSTART;TZID=Europe/Rome:20260210T180000
DTEND;TZID=Europe/Rome:20260210T190000
DTSTAMP:20260422T005415
CREATED:20260202T084300Z
LAST-MODIFIED:20260202T084314Z
UID:23704-1770746400-1770750000@ordingal.it
SUMMARY:Riunione consiglio FIOPA
DESCRIPTION:
URL:https://ordingal.it/event/riunione-consiglio-fiopa/
LOCATION:ORDINE INGEGNERI DI TORINO\, CORSO TRENTO\, 21\, TORINO
CATEGORIES:FIOPA
END:VEVENT
BEGIN:VEVENT
DTSTART;TZID=Europe/Rome:20260211T180000
DTEND;TZID=Europe/Rome:20260211T200000
DTSTAMP:20260422T005415
CREATED:20251212T085400Z
LAST-MODIFIED:20251212T085400Z
UID:23580-1770832800-1770840000@ordingal.it
SUMMARY:Consiglio Ordine
DESCRIPTION:
URL:https://ordingal.it/event/consiglio-ordine-3/
LOCATION:Corso Teresio Borsalino 17 – Alessandria\, Corso Teresio Borsalino 17\, Alessandria\, AL\, 15121\, Italia
CATEGORIES:Consigli
END:VEVENT
BEGIN:VEVENT
DTSTART;TZID=Europe/Rome:20260213T153000
DTEND;TZID=Europe/Rome:20260214T133000
DTSTAMP:20260422T005415
CREATED:20260202T094738Z
LAST-MODIFIED:20260202T094738Z
UID:23706-1770996600-1771075800@ordingal.it
SUMMARY:Assemblea dei Presidenti - CNI
DESCRIPTION:
URL:https://ordingal.it/event/assemblea-dei-presidenti-cni-5/
LOCATION:Sede CNI\, via XX Settembre 5\, ROMA
CATEGORIES:Assemblea dei Presidenti
END:VEVENT
BEGIN:VEVENT
DTSTART;TZID=Europe/Rome:20260224T143000
DTEND;TZID=Europe/Rome:20260224T183000
DTSTAMP:20260422T005415
CREATED:20260121T093011Z
LAST-MODIFIED:20260123T091340Z
UID:23627-1771943400-1771957800@ordingal.it
SUMMARY:Corso di aggiornamento Prevenzione incendi (4 ore) " CORSO DI AGGIORNAMENTO ANTINCENDIO SUI LOCALI DI PUBBLICO SPETTACOLO E RTV 15”
DESCRIPTION:
URL:https://ordingal.it/event/in-fase-di-pubblicazione-corso-di-aggiornamento-prevenzione-incendi-4-ore-corso-di-aggiornamento-antincendio-sui-locali-di-pubblico-spettacolo-e-rtv-15/
LOCATION:Scuola Edile\, Zona artigianale D3 Viale dell'Industria\, 56\, Alessandria
CATEGORIES:Corsi di formazione
END:VEVENT
BEGIN:VEVENT
DTSTART;TZID=Europe/Rome:20260225T180000
DTEND;TZID=Europe/Rome:20260225T200000
DTSTAMP:20260422T005415
CREATED:20251212T085639Z
LAST-MODIFIED:20251212T085639Z
UID:23582-1772042400-1772049600@ordingal.it
SUMMARY:Consiglio Ordine
DESCRIPTION:
URL:https://ordingal.it/event/consiglio-ordine-4/
LOCATION:Corso Teresio Borsalino 17 – Alessandria\, Corso Teresio Borsalino 17\, Alessandria\, AL\, 15121\, Italia
CATEGORIES:Consigli
END:VEVENT
BEGIN:VEVENT
DTSTART;TZID=Europe/Rome:20260305T143000
DTEND;TZID=Europe/Rome:20260305T173000
DTSTAMP:20260422T005415
CREATED:20251219T083116Z
LAST-MODIFIED:20260217T110109Z
UID:23605-1772721000-1772731800@ordingal.it
SUMMARY:Seminario di aggiornamento “Sistemi Efficienti per Edifici Sostenibili: strumenti e strategie impiantistiche per la riqualificazione di edifici esistenti e nuove costruzioni”
DESCRIPTION:
URL:https://ordingal.it/event/seminario-in-fase-di-pubblicazione-2/
LOCATION:Corso Teresio Borsalino 17 – Alessandria\, Corso Teresio Borsalino 17\, Alessandria\, AL\, 15121\, Italia
CATEGORIES:Corsi di formazione
END:VEVENT
BEGIN:VEVENT
DTSTART;TZID=Europe/Rome:20260311T180000
DTEND;TZID=Europe/Rome:20260311T200000
DTSTAMP:20260422T005415
CREATED:20251212T085728Z
LAST-MODIFIED:20251212T085728Z
UID:23584-1773252000-1773259200@ordingal.it
SUMMARY:Consiglio Ordine
DESCRIPTION:
URL:https://ordingal.it/event/consiglio-ordine-5/
LOCATION:Corso Teresio Borsalino 17 – Alessandria\, Corso Teresio Borsalino 17\, Alessandria\, AL\, 15121\, Italia
CATEGORIES:Consigli
END:VEVENT
BEGIN:VEVENT
DTSTART;TZID=Europe/Rome:20260312T143000
DTEND;TZID=Europe/Rome:20260312T173000
DTSTAMP:20260422T005415
CREATED:20260206T072111Z
LAST-MODIFIED:20260224T104416Z
UID:23747-1773325800-1773336600@ordingal.it
SUMMARY:Seminario di aggiornamento sulla Valutazione del Rischio Bellico (VRB) e detection di UXO
DESCRIPTION:
URL:https://ordingal.it/event/in-fase-di-pubblicazione-seminario-di-aggiornamento-sulla-valutazione-del-rischio-bellico-vrb-e-detection-di-uxo/
LOCATION:Corso Teresio Borsalino 17 – Alessandria\, Corso Teresio Borsalino 17\, Alessandria\, AL\, 15121\, Italia
CATEGORIES:Corsi di formazione
END:VEVENT
BEGIN:VEVENT
DTSTART;TZID=Europe/Rome:20260319T143000
DTEND;TZID=Europe/Rome:20260319T183000
DTSTAMP:20260422T005415
CREATED:20260123T091650Z
LAST-MODIFIED:20260123T091650Z
UID:23633-1773930600-1773945000@ordingal.it
SUMMARY:Corso di aggiornamento Prevenzione incendi (4 ore) " SICUREZZA ANTINCENDIO NEGLI EDIFICI PROMISCUI SECONDO IL CODICE DI PREVENZIONE INCENDI. ATTIVITÀ 73 DEL D.P.R. 151/2011”
DESCRIPTION:
URL:https://ordingal.it/event/corso-di-aggiornamento-prevenzione-incendi-4-ore-sicurezza-antincendio-negli-edifici-promiscui-secondo-il-codice-di-prevenzione-incendi-attivita-73-del-d-p-r-151-2011/
LOCATION:Scuola Edile\, Zona artigianale D3 Viale dell'Industria\, 56\, Alessandria
CATEGORIES:Corsi di formazione
END:VEVENT
BEGIN:VEVENT
DTSTART;TZID=Europe/Rome:20260325T180000
DTEND;TZID=Europe/Rome:20260325T200000
DTSTAMP:20260422T005415
CREATED:20251212T085811Z
LAST-MODIFIED:20251212T085811Z
UID:23586-1774461600-1774468800@ordingal.it
SUMMARY:Consiglio Ordine
DESCRIPTION:
URL:https://ordingal.it/event/consiglio-ordine-6/
LOCATION:Corso Teresio Borsalino 17 – Alessandria\, Corso Teresio Borsalino 17\, Alessandria\, AL\, 15121\, Italia
CATEGORIES:Consigli
END:VEVENT
BEGIN:VEVENT
DTSTART;TZID=Europe/Rome:20260328T090000
DTEND;TZID=Europe/Rome:20260328T233000
DTSTAMP:20260422T005415
CREATED:20250919T072813Z
LAST-MODIFIED:20260306T080607Z
UID:23450-1774688400-1774740600@ordingal.it
SUMMARY:ASSEMBLEA DEGLI ISCRITTI
DESCRIPTION:
URL:https://ordingal.it/event/assemblea-degli-iscritti-2/
LOCATION:Scuola Edile\, Zona artigianale D3 Viale dell'Industria\, 56\, Alessandria
CATEGORIES:Assemblea Iscritti
END:VEVENT
END:VCALENDAR