BEGIN:VCALENDAR
VERSION:2.0
PRODID:-//Ordine degli Ingegneri della Provincia di Alessandria - ECPv6.15.11//NONSGML v1.0//EN
CALSCALE:GREGORIAN
METHOD:PUBLISH
X-WR-CALNAME:Ordine degli Ingegneri della Provincia di Alessandria
X-ORIGINAL-URL:https://ordingal.it
X-WR-CALDESC:Eventi per Ordine degli Ingegneri della Provincia di Alessandria
REFRESH-INTERVAL;VALUE=DURATION:PT1H
X-Robots-Tag:noindex
X-PUBLISHED-TTL:PT1H
BEGIN:VTIMEZONE
TZID:Europe/Paris
BEGIN:DAYLIGHT
TZOFFSETFROM:+0100
TZOFFSETTO:+0200
TZNAME:CEST
DTSTART:20230326T010000
END:DAYLIGHT
BEGIN:STANDARD
TZOFFSETFROM:+0200
TZOFFSETTO:+0100
TZNAME:CET
DTSTART:20231029T010000
END:STANDARD
BEGIN:DAYLIGHT
TZOFFSETFROM:+0100
TZOFFSETTO:+0200
TZNAME:CEST
DTSTART:20240331T010000
END:DAYLIGHT
BEGIN:STANDARD
TZOFFSETFROM:+0200
TZOFFSETTO:+0100
TZNAME:CET
DTSTART:20241027T010000
END:STANDARD
BEGIN:DAYLIGHT
TZOFFSETFROM:+0100
TZOFFSETTO:+0200
TZNAME:CEST
DTSTART:20250330T010000
END:DAYLIGHT
BEGIN:STANDARD
TZOFFSETFROM:+0200
TZOFFSETTO:+0100
TZNAME:CET
DTSTART:20251026T010000
END:STANDARD
END:VTIMEZONE
BEGIN:VEVENT
DTSTART;TZID=Europe/Paris:20241023T080000
DTEND;TZID=Europe/Paris:20241023T170000
DTSTAMP:20260421T033113
CREATED:20240621T054430Z
LAST-MODIFIED:20240823T135656Z
UID:5431-1729670400-1729702800@ordingal.it
SUMMARY:Consiglio Ordine Ingegneri
DESCRIPTION:
URL:https://ordingal.it/event/ottobre-consiglio-ordine-ingegneri/
LOCATION:AL
CATEGORIES:Consigli
END:VEVENT
BEGIN:VEVENT
DTSTART;TZID=Europe/Paris:20241009T190000
DTEND;TZID=Europe/Paris:20241009T200000
DTSTAMP:20260421T033113
CREATED:20240621T054354Z
LAST-MODIFIED:20240823T140325Z
UID:5429-1728500400-1728504000@ordingal.it
SUMMARY:Consiglio Ordine Ingegneri
DESCRIPTION:
URL:https://ordingal.it/event/consiglio-ordine-degli-ingegneri-ottobre/
LOCATION:AL
CATEGORIES:Consigli
END:VEVENT
BEGIN:VEVENT
DTSTART;TZID=Europe/Paris:20240925T180000
DTEND;TZID=Europe/Paris:20240925T200000
DTSTAMP:20260421T033113
CREATED:20240621T054255Z
LAST-MODIFIED:20240823T140445Z
UID:5427-1727287200-1727294400@ordingal.it
SUMMARY:Consiglio Ordine Ingegneri
DESCRIPTION:
URL:https://ordingal.it/event/consiglio-ordine-ingegneri-settembre/
LOCATION:AL
CATEGORIES:Consigli
END:VEVENT
BEGIN:VEVENT
DTSTART;TZID=Europe/Paris:20240904T180000
DTEND;TZID=Europe/Paris:20240904T200000
DTSTAMP:20260421T033113
CREATED:20240621T054158Z
LAST-MODIFIED:20240823T140722Z
UID:5425-1725472800-1725480000@ordingal.it
SUMMARY:Consiglio Ordine Ingegneri
DESCRIPTION:
URL:https://ordingal.it/event/consiglio-ordine-ingegneri-205/
LOCATION:Corso Teresio Borsalino 17 – Alessandria\, Corso Teresio Borsalino 17\, Alessandria\, AL\, 15121\, Italia
CATEGORIES:Consigli
END:VEVENT
BEGIN:VEVENT
DTSTART;TZID=Europe/Paris:20240808T080000
DTEND;TZID=Europe/Paris:20240826T170000
DTSTAMP:20260421T033113
CREATED:20240802T085311Z
LAST-MODIFIED:20240823T135409Z
UID:5496-1723104000-1724691600@ordingal.it
SUMMARY:Chiusura uffici sede Ordine per pausa estiva
DESCRIPTION:
URL:https://ordingal.it/event/chiusura-uffici-ordine-per-pausa-estiva/
LOCATION:AL
END:VEVENT
END:VCALENDAR