BEGIN:VCALENDAR
VERSION:2.0
PRODID:-//Ordine degli Ingegneri della Provincia di Alessandria - ECPv6.15.11//NONSGML v1.0//EN
CALSCALE:GREGORIAN
METHOD:PUBLISH
X-ORIGINAL-URL:https://ordingal.it
X-WR-CALDESC:Eventi per Ordine degli Ingegneri della Provincia di Alessandria
REFRESH-INTERVAL;VALUE=DURATION:PT1H
X-Robots-Tag:noindex
X-PUBLISHED-TTL:PT1H
BEGIN:VTIMEZONE
TZID:Europe/Rome
BEGIN:DAYLIGHT
TZOFFSETFROM:+0100
TZOFFSETTO:+0200
TZNAME:CEST
DTSTART:20230326T010000
END:DAYLIGHT
BEGIN:STANDARD
TZOFFSETFROM:+0200
TZOFFSETTO:+0100
TZNAME:CET
DTSTART:20231029T010000
END:STANDARD
BEGIN:DAYLIGHT
TZOFFSETFROM:+0100
TZOFFSETTO:+0200
TZNAME:CEST
DTSTART:20240331T010000
END:DAYLIGHT
BEGIN:STANDARD
TZOFFSETFROM:+0200
TZOFFSETTO:+0100
TZNAME:CET
DTSTART:20241027T010000
END:STANDARD
BEGIN:DAYLIGHT
TZOFFSETFROM:+0100
TZOFFSETTO:+0200
TZNAME:CEST
DTSTART:20250330T010000
END:DAYLIGHT
BEGIN:STANDARD
TZOFFSETFROM:+0200
TZOFFSETTO:+0100
TZNAME:CET
DTSTART:20251026T010000
END:STANDARD
END:VTIMEZONE
BEGIN:VEVENT
DTSTART;TZID=Europe/Rome:20241213T153000
DTEND;TZID=Europe/Rome:20241214T130000
DTSTAMP:20260419T170846
CREATED:20241129T093105Z
LAST-MODIFIED:20241129T093105Z
UID:22737-1734103800-1734181200@ordingal.it
SUMMARY:Assemblea dei Presidenti
DESCRIPTION:
URL:https://ordingal.it/event/assemblea-dei-presidenti-2/
LOCATION:Università degli studi di Napoli Federico II\, palazzo Orsini di Gravina Via Monteoliveto\,3\, Napoli
CATEGORIES:Assemblea dei Presidenti
END:VEVENT
END:VCALENDAR