BEGIN:VCALENDAR
VERSION:2.0
PRODID:-//Ordine degli Ingegneri della Provincia di Alessandria - ECPv6.15.11//NONSGML v1.0//EN
CALSCALE:GREGORIAN
METHOD:PUBLISH
X-WR-CALNAME:Ordine degli Ingegneri della Provincia di Alessandria
X-ORIGINAL-URL:https://ordingal.it
X-WR-CALDESC:Eventi per Ordine degli Ingegneri della Provincia di Alessandria
REFRESH-INTERVAL;VALUE=DURATION:PT1H
X-Robots-Tag:noindex
X-PUBLISHED-TTL:PT1H
BEGIN:VTIMEZONE
TZID:Europe/Rome
BEGIN:DAYLIGHT
TZOFFSETFROM:+0100
TZOFFSETTO:+0200
TZNAME:CEST
DTSTART:20240331T010000
END:DAYLIGHT
BEGIN:STANDARD
TZOFFSETFROM:+0200
TZOFFSETTO:+0100
TZNAME:CET
DTSTART:20241027T010000
END:STANDARD
BEGIN:DAYLIGHT
TZOFFSETFROM:+0100
TZOFFSETTO:+0200
TZNAME:CEST
DTSTART:20250330T010000
END:DAYLIGHT
BEGIN:STANDARD
TZOFFSETFROM:+0200
TZOFFSETTO:+0100
TZNAME:CET
DTSTART:20251026T010000
END:STANDARD
BEGIN:DAYLIGHT
TZOFFSETFROM:+0100
TZOFFSETTO:+0200
TZNAME:CEST
DTSTART:20260329T010000
END:DAYLIGHT
BEGIN:STANDARD
TZOFFSETFROM:+0200
TZOFFSETTO:+0100
TZNAME:CET
DTSTART:20261025T010000
END:STANDARD
END:VTIMEZONE
BEGIN:VEVENT
DTSTART;TZID=Europe/Rome:20250605T093000
DTEND;TZID=Europe/Rome:20250605T133000
DTSTAMP:20260423T114936
CREATED:20250506T065718Z
LAST-MODIFIED:20250604T122125Z
UID:23147-1749115800-1749130200@ordingal.it
SUMMARY:Seminario” Innovazione nel settore delle infrastrutture - esperienze chiave”
DESCRIPTION:
URL:https://ordingal.it/event/in-fase-di-pubblicazione-seminario-sina/
LOCATION:ITINERA\, ITINERA Strada Statale 10 per Alessandria n. 6/A\, Tortona (AL)
CATEGORIES:Corsi di formazione
END:VEVENT
END:VCALENDAR