BEGIN:VCALENDAR
VERSION:2.0
PRODID:-//Ordine degli Ingegneri della Provincia di Alessandria - ECPv6.15.11//NONSGML v1.0//EN
CALSCALE:GREGORIAN
METHOD:PUBLISH
X-ORIGINAL-URL:https://ordingal.it
X-WR-CALDESC:Eventi per Ordine degli Ingegneri della Provincia di Alessandria
REFRESH-INTERVAL;VALUE=DURATION:PT1H
X-Robots-Tag:noindex
X-PUBLISHED-TTL:PT1H
BEGIN:VTIMEZONE
TZID:Europe/Rome
BEGIN:DAYLIGHT
TZOFFSETFROM:+0100
TZOFFSETTO:+0200
TZNAME:CEST
DTSTART:20240331T010000
END:DAYLIGHT
BEGIN:STANDARD
TZOFFSETFROM:+0200
TZOFFSETTO:+0100
TZNAME:CET
DTSTART:20241027T010000
END:STANDARD
BEGIN:DAYLIGHT
TZOFFSETFROM:+0100
TZOFFSETTO:+0200
TZNAME:CEST
DTSTART:20250330T010000
END:DAYLIGHT
BEGIN:STANDARD
TZOFFSETFROM:+0200
TZOFFSETTO:+0100
TZNAME:CET
DTSTART:20251026T010000
END:STANDARD
BEGIN:DAYLIGHT
TZOFFSETFROM:+0100
TZOFFSETTO:+0200
TZNAME:CEST
DTSTART:20260329T010000
END:DAYLIGHT
BEGIN:STANDARD
TZOFFSETFROM:+0200
TZOFFSETTO:+0100
TZNAME:CET
DTSTART:20261025T010000
END:STANDARD
END:VTIMEZONE
BEGIN:VEVENT
DTSTART;TZID=Europe/Rome:20250529T180000
DTEND;TZID=Europe/Rome:20250529T200000
DTSTAMP:20260421T103116
CREATED:20250519T071257Z
LAST-MODIFIED:20250519T071402Z
UID:23203-1748541600-1748548800@ordingal.it
SUMMARY:Convocazione Commissione Strutture
DESCRIPTION:La Commissione Strutture è convocata per giovedì 29 maggio 2029 ore 18\,00 esclusivamente in modalità videoconferenza con il seguente odg: \n\nAggiornamenti normativi: NTC ed Eurocodici di seconda generazione\nFormazione: criteri per la definizione dei corsi e valutazione delle proposte formative ricevute\nSanatorie strutturali: aspetti normative e problematiche applicative\nVarie ed eventuali
URL:https://ordingal.it/event/convocazione-commissione-strutture/
LOCATION:FAD
CATEGORIES:Commissioni
END:VEVENT
END:VCALENDAR