BEGIN:VCALENDAR
VERSION:2.0
PRODID:-//Ordine degli Ingegneri della Provincia di Alessandria - ECPv6.15.11//NONSGML v1.0//EN
CALSCALE:GREGORIAN
METHOD:PUBLISH
X-ORIGINAL-URL:https://ordingal.it
X-WR-CALDESC:Eventi per Ordine degli Ingegneri della Provincia di Alessandria
REFRESH-INTERVAL;VALUE=DURATION:PT1H
X-Robots-Tag:noindex
X-PUBLISHED-TTL:PT1H
BEGIN:VTIMEZONE
TZID:Europe/Rome
BEGIN:DAYLIGHT
TZOFFSETFROM:+0100
TZOFFSETTO:+0200
TZNAME:CEST
DTSTART:20230326T010000
END:DAYLIGHT
BEGIN:STANDARD
TZOFFSETFROM:+0200
TZOFFSETTO:+0100
TZNAME:CET
DTSTART:20231029T010000
END:STANDARD
BEGIN:DAYLIGHT
TZOFFSETFROM:+0100
TZOFFSETTO:+0200
TZNAME:CEST
DTSTART:20240331T010000
END:DAYLIGHT
BEGIN:STANDARD
TZOFFSETFROM:+0200
TZOFFSETTO:+0100
TZNAME:CET
DTSTART:20241027T010000
END:STANDARD
BEGIN:DAYLIGHT
TZOFFSETFROM:+0100
TZOFFSETTO:+0200
TZNAME:CEST
DTSTART:20250330T010000
END:DAYLIGHT
BEGIN:STANDARD
TZOFFSETFROM:+0200
TZOFFSETTO:+0100
TZNAME:CET
DTSTART:20251026T010000
END:STANDARD
END:VTIMEZONE
BEGIN:VEVENT
DTSTART;TZID=Europe/Rome:20241211T143000
DTEND;TZID=Europe/Rome:20241211T173000
DTSTAMP:20260421T013817
CREATED:20241129T072913Z
LAST-MODIFIED:20241129T073020Z
UID:22731-1733927400-1733938200@ordingal.it
SUMMARY:Seminario  Modulo 1 - Aspetti applicativi del DL Salva Casa (DL 69/2024) – aspetti generali del DL 69/2024 convertito nella legge 105/2024 (FAD - COVID19)
DESCRIPTION:
URL:https://ordingal.it/event/seminario-modulo-1-aspetti-applicativi-del-dl-salva-casa-dl-69-2024-aspetti-generali-del-dl-69-2024-convertito-nella-legge-105-2024-fad-covid19/
LOCATION:FAD
CATEGORIES:Corsi di formazione
END:VEVENT
END:VCALENDAR