BEGIN:VCALENDAR
VERSION:2.0
PRODID:-//Ordine degli Ingegneri della Provincia di Alessandria - ECPv6.15.11//NONSGML v1.0//EN
CALSCALE:GREGORIAN
METHOD:PUBLISH
X-ORIGINAL-URL:https://ordingal.it
X-WR-CALDESC:Eventi per Ordine degli Ingegneri della Provincia di Alessandria
REFRESH-INTERVAL;VALUE=DURATION:PT1H
X-Robots-Tag:noindex
X-PUBLISHED-TTL:PT1H
BEGIN:VTIMEZONE
TZID:Europe/Rome
BEGIN:DAYLIGHT
TZOFFSETFROM:+0100
TZOFFSETTO:+0200
TZNAME:CEST
DTSTART:20230326T010000
END:DAYLIGHT
BEGIN:STANDARD
TZOFFSETFROM:+0200
TZOFFSETTO:+0100
TZNAME:CET
DTSTART:20231029T010000
END:STANDARD
BEGIN:DAYLIGHT
TZOFFSETFROM:+0100
TZOFFSETTO:+0200
TZNAME:CEST
DTSTART:20240331T010000
END:DAYLIGHT
BEGIN:STANDARD
TZOFFSETFROM:+0200
TZOFFSETTO:+0100
TZNAME:CET
DTSTART:20241027T010000
END:STANDARD
BEGIN:DAYLIGHT
TZOFFSETFROM:+0100
TZOFFSETTO:+0200
TZNAME:CEST
DTSTART:20250330T010000
END:DAYLIGHT
BEGIN:STANDARD
TZOFFSETFROM:+0200
TZOFFSETTO:+0100
TZNAME:CET
DTSTART:20251026T010000
END:STANDARD
END:VTIMEZONE
BEGIN:VEVENT
DTSTART;TZID=Europe/Rome:20241030T173000
DTEND;TZID=Europe/Rome:20241030T183000
DTSTAMP:20260420T235525
CREATED:20241030T074928Z
LAST-MODIFIED:20241030T074928Z
UID:22646-1730309400-1730313000@ordingal.it
SUMMARY:Commissione Energia e Commissione Acustica e Impianti
DESCRIPTION:La Commissione Energia e la Commissione Acustica ed Impianti sono convocate per mercoledì 30 ottobre 2024 ore 17.30 in modalità mista con il seguente o.d.g. \n\nCondivisione incontro con Commissione Giovani per esposizione idee di progetto (evento su temi di condivisione e sensibilizzazione cittadinanza);\nOrganizzazione corsi tematiche Energia ed Impianti;\nDettagli su visita tecnica stabilimento Caleffi sito in Fontaneto D’Agogna;\nValutazione possibilità di corsi introduttivi acustica;\nVarie ed eventuali.\n\nIl presente avviso è trasmesso tramite circolare informatica a tutti gli iscritti\, allo scopo di rinnovare l’invito\, a chi è interessato all’argomento\, ad iscriversi presso la ns Segreteria alla Commissione Energia o alla Commissione Acustica ed Impianti\, ed a partecipare alle riunioni. \nIl link per il collegamento da remoto è:\nhttps://us06web.zoom.us/j/84881719026
URL:https://ordingal.it/event/commissione-energia-e-commissione-acustica-e-impianti/
LOCATION:Corso Teresio Borsalino 17 – Alessandria\, Corso Teresio Borsalino 17\, Alessandria\, AL\, 15121\, Italia
CATEGORIES:Commissioni
END:VEVENT
END:VCALENDAR